BEGIN:VCALENDAR
VERSION:2.0
PRODID:-//Southern Hills Golf Club - Hastings, NE - ECPv6.15.20//NONSGML v1.0//EN
CALSCALE:GREGORIAN
METHOD:PUBLISH
X-ORIGINAL-URL:https://southernhillshastings.com
X-WR-CALDESC:Events for Southern Hills Golf Club - Hastings, NE
REFRESH-INTERVAL;VALUE=DURATION:PT1H
X-Robots-Tag:noindex
X-PUBLISHED-TTL:PT1H
BEGIN:VTIMEZONE
TZID:America/Chicago
BEGIN:DAYLIGHT
TZOFFSETFROM:-0600
TZOFFSETTO:-0500
TZNAME:CDT
DTSTART:20250309T080000
END:DAYLIGHT
BEGIN:STANDARD
TZOFFSETFROM:-0500
TZOFFSETTO:-0600
TZNAME:CST
DTSTART:20251102T070000
END:STANDARD
BEGIN:DAYLIGHT
TZOFFSETFROM:-0600
TZOFFSETTO:-0500
TZNAME:CDT
DTSTART:20260308T080000
END:DAYLIGHT
BEGIN:STANDARD
TZOFFSETFROM:-0500
TZOFFSETTO:-0600
TZNAME:CST
DTSTART:20261101T070000
END:STANDARD
BEGIN:DAYLIGHT
TZOFFSETFROM:-0600
TZOFFSETTO:-0500
TZNAME:CDT
DTSTART:20270314T080000
END:DAYLIGHT
BEGIN:STANDARD
TZOFFSETFROM:-0500
TZOFFSETTO:-0600
TZNAME:CST
DTSTART:20271107T070000
END:STANDARD
END:VTIMEZONE
BEGIN:VEVENT
DTSTART;TZID=America/Chicago:20260428T174500
DTEND;TZID=America/Chicago:20260428T213000
DTSTAMP:20260421T174710
CREATED:20260421T214012Z
LAST-MODIFIED:20260421T214013Z
UID:10000926-1777398300-1777411800@southernhillshastings.com
SUMMARY:Ladies League
DESCRIPTION:
URL:https://southernhillshastings.com/event/ladies-league/2026-04-28/
END:VEVENT
BEGIN:VEVENT
DTSTART;TZID=America/Chicago:20260429T173000
DTEND;TZID=America/Chicago:20260429T181500
DTSTAMP:20260421T174710
CREATED:20260203T193409Z
LAST-MODIFIED:20260203T193411Z
UID:10000752-1777483800-1777486500@southernhillshastings.com
SUMMARY:PGA Jr. League Season meeting
DESCRIPTION:
URL:https://southernhillshastings.com/event/pga-jr-league-season-meeting/
LOCATION:Southern Hills Golf Course\, 3005 South Southern Hills Dr.\, Hastings\, Nebraska\, 68901\, United States
END:VEVENT
BEGIN:VEVENT
DTSTART;TZID=America/Chicago:20260430T090000
DTEND;TZID=America/Chicago:20260430T170000
DTSTAMP:20260421T174710
CREATED:20260202T215750Z
LAST-MODIFIED:20260203T184954Z
UID:10000726-1777539600-1777568400@southernhillshastings.com
SUMMARY:STC Invite
DESCRIPTION:
URL:https://southernhillshastings.com/event/stc-invite/
LOCATION:Southern Hills Golf Course\, 3005 South Southern Hills Dr.\, Hastings\, Nebraska\, 68901\, United States
END:VEVENT
BEGIN:VEVENT
DTSTART;TZID=America/Chicago:20260502T100000
DTEND;TZID=America/Chicago:20260502T170000
DTSTAMP:20260421T174710
CREATED:20260202T213946Z
LAST-MODIFIED:20260202T221342Z
UID:10000716-1777716000-1777741200@southernhillshastings.com
SUMMARY:Ladies Scramble Tournament
DESCRIPTION:4 Person Ladies Scramble Tournament
URL:https://southernhillshastings.com/event/ladies-scramble-tournament/
LOCATION:Southern Hills Golf Course\, 3005 South Southern Hills Dr.\, Hastings\, Nebraska\, 68901\, United States
END:VEVENT
BEGIN:VEVENT
DTSTART;TZID=America/Chicago:20260504T174500
DTEND;TZID=America/Chicago:20260504T213000
DTSTAMP:20260421T174710
CREATED:20260421T210157Z
LAST-MODIFIED:20260421T210158Z
UID:10000893-1777916700-1777930200@southernhillshastings.com
SUMMARY:Men's League
DESCRIPTION:
URL:https://southernhillshastings.com/event/mens-league/2026-05-04/
END:VEVENT
BEGIN:VEVENT
DTSTART;TZID=America/Chicago:20260505T174500
DTEND;TZID=America/Chicago:20260505T213000
DTSTAMP:20260421T174710
CREATED:20260421T214012Z
LAST-MODIFIED:20260421T214013Z
UID:10000927-1778003100-1778016600@southernhillshastings.com
SUMMARY:Ladies League
DESCRIPTION:
URL:https://southernhillshastings.com/event/ladies-league/2026-05-05/
END:VEVENT
BEGIN:VEVENT
DTSTART;TZID=America/Chicago:20260506T080000
DTEND;TZID=America/Chicago:20260510T170000
DTSTAMP:20260421T174710
CREATED:20260415T143830Z
LAST-MODIFIED:20260415T143834Z
UID:10000754-1778054400-1778432400@southernhillshastings.com
SUMMARY:Warrior Cup Qualifying Event
DESCRIPTION:
URL:https://southernhillshastings.com/event/warrior-cup-qualifying-event/2026-05-06/
END:VEVENT
BEGIN:VEVENT
DTSTART;TZID=America/Chicago:20260511T180000
DTEND;TZID=America/Chicago:20260511T220000
DTSTAMP:20260421T174710
CREATED:20260421T211056Z
LAST-MODIFIED:20260421T211058Z
UID:10000910-1778522400-1778536800@southernhillshastings.com
SUMMARY:Men's League
DESCRIPTION:
URL:https://southernhillshastings.com/event/mens-league-2/2026-05-11/
END:VEVENT
BEGIN:VEVENT
DTSTART;TZID=America/Chicago:20260512T090000
DTEND;TZID=America/Chicago:20260512T170000
DTSTAMP:20260421T174710
CREATED:20260202T215843Z
LAST-MODIFIED:20260202T215846Z
UID:10000727-1778576400-1778605200@southernhillshastings.com
SUMMARY:Tri City Invite
DESCRIPTION:
URL:https://southernhillshastings.com/event/tri-city-invite/
LOCATION:Southern Hills Golf Course\, 3005 South Southern Hills Dr.\, Hastings\, Nebraska\, 68901\, United States
END:VEVENT
BEGIN:VEVENT
DTSTART;TZID=America/Chicago:20260512T180000
DTEND;TZID=America/Chicago:20260512T220000
DTSTAMP:20260421T174710
CREATED:20260421T214725Z
LAST-MODIFIED:20260421T214726Z
UID:10000946-1778608800-1778623200@southernhillshastings.com
SUMMARY:Ladies League
DESCRIPTION:
URL:https://southernhillshastings.com/event/ladies-league-3/2026-05-12/
END:VEVENT
BEGIN:VEVENT
DTSTART;TZID=America/Chicago:20260513T120000
DTEND;TZID=America/Chicago:20260513T170000
DTSTAMP:20260421T174710
CREATED:20260415T185426Z
LAST-MODIFIED:20260415T185430Z
UID:10000763-1778673600-1778691600@southernhillshastings.com
SUMMARY:The Wednesday Open
DESCRIPTION:
URL:https://southernhillshastings.com/event/the-wednesday-open/2026-05-13/
END:VEVENT
BEGIN:VEVENT
DTSTART;TZID=America/Chicago:20260518T080000
DTEND;TZID=America/Chicago:20260518T170000
DTSTAMP:20260421T174710
CREATED:20260415T151551Z
LAST-MODIFIED:20260415T151554Z
UID:10000762-1779091200-1779123600@southernhillshastings.com
SUMMARY:District Golf Tournament
DESCRIPTION:
URL:https://southernhillshastings.com/event/district-golf-tournament/
END:VEVENT
BEGIN:VEVENT
DTSTART;TZID=America/Chicago:20260518T180000
DTEND;TZID=America/Chicago:20260518T220000
DTSTAMP:20260421T174710
CREATED:20260421T211056Z
LAST-MODIFIED:20260421T211058Z
UID:10000911-1779127200-1779141600@southernhillshastings.com
SUMMARY:Men's League
DESCRIPTION:
URL:https://southernhillshastings.com/event/mens-league-2/2026-05-18/
END:VEVENT
BEGIN:VEVENT
DTSTART;TZID=America/Chicago:20260519T180000
DTEND;TZID=America/Chicago:20260519T220000
DTSTAMP:20260421T174710
CREATED:20260421T214725Z
LAST-MODIFIED:20260421T214726Z
UID:10000947-1779213600-1779228000@southernhillshastings.com
SUMMARY:Ladies League
DESCRIPTION:
URL:https://southernhillshastings.com/event/ladies-league-3/2026-05-19/
END:VEVENT
BEGIN:VEVENT
DTSTART;TZID=America/Chicago:20260520T080000
DTEND;TZID=America/Chicago:20260524T170000
DTSTAMP:20260421T174710
CREATED:20260415T143830Z
LAST-MODIFIED:20260415T143834Z
UID:10000755-1779264000-1779642000@southernhillshastings.com
SUMMARY:Warrior Cup Qualifying Event
DESCRIPTION:
URL:https://southernhillshastings.com/event/warrior-cup-qualifying-event/2026-05-20/
END:VEVENT
BEGIN:VEVENT
DTSTART;TZID=America/Chicago:20260525T080000
DTEND;TZID=America/Chicago:20260525T170000
DTSTAMP:20260421T174710
CREATED:20260202T214242Z
LAST-MODIFIED:20260202T221632Z
UID:10000717-1779696000-1779728400@southernhillshastings.com
SUMMARY:ABCD Blind Draw Scramble
DESCRIPTION:
URL:https://southernhillshastings.com/event/abcd-blind-draw-scramble/
LOCATION:Southern Hills Golf Course\, 3005 South Southern Hills Dr.\, Hastings\, Nebraska\, 68901\, United States
END:VEVENT
BEGIN:VEVENT
DTSTART;TZID=America/Chicago:20260526T180000
DTEND;TZID=America/Chicago:20260526T220000
DTSTAMP:20260421T174710
CREATED:20260421T214725Z
LAST-MODIFIED:20260421T214726Z
UID:10000948-1779818400-1779832800@southernhillshastings.com
SUMMARY:Ladies League
DESCRIPTION:
URL:https://southernhillshastings.com/event/ladies-league-3/2026-05-26/
END:VEVENT
BEGIN:VEVENT
DTSTART;TZID=America/Chicago:20260527T120000
DTEND;TZID=America/Chicago:20260527T170000
DTSTAMP:20260421T174710
CREATED:20260415T185426Z
LAST-MODIFIED:20260415T185430Z
UID:10000764-1779883200-1779901200@southernhillshastings.com
SUMMARY:The Wednesday Open
DESCRIPTION:
URL:https://southernhillshastings.com/event/the-wednesday-open/2026-05-27/
END:VEVENT
BEGIN:VEVENT
DTSTART;TZID=America/Chicago:20260601T180000
DTEND;TZID=America/Chicago:20260601T220000
DTSTAMP:20260421T174710
CREATED:20260421T211056Z
LAST-MODIFIED:20260421T211058Z
UID:10000913-1780336800-1780351200@southernhillshastings.com
SUMMARY:Men's League
DESCRIPTION:
URL:https://southernhillshastings.com/event/mens-league-2/2026-06-01/
END:VEVENT
BEGIN:VEVENT
DTSTART;TZID=America/Chicago:20260602T180000
DTEND;TZID=America/Chicago:20260602T220000
DTSTAMP:20260421T174710
CREATED:20260421T214725Z
LAST-MODIFIED:20260421T214726Z
UID:10000949-1780423200-1780437600@southernhillshastings.com
SUMMARY:Ladies League
DESCRIPTION:
URL:https://southernhillshastings.com/event/ladies-league-3/2026-06-02/
END:VEVENT
BEGIN:VEVENT
DTSTART;TZID=America/Chicago:20260603T080000
DTEND;TZID=America/Chicago:20260607T170000
DTSTAMP:20260421T174710
CREATED:20260415T143830Z
LAST-MODIFIED:20260415T143834Z
UID:10000756-1780473600-1780851600@southernhillshastings.com
SUMMARY:Warrior Cup Qualifying Event
DESCRIPTION:
URL:https://southernhillshastings.com/event/warrior-cup-qualifying-event/2026-06-03/
END:VEVENT
BEGIN:VEVENT
DTSTART;TZID=America/Chicago:20260604T000000
DTEND;TZID=America/Chicago:20260604T235959
DTSTAMP:20260421T174710
CREATED:20260202T214433Z
LAST-MODIFIED:20260421T205902Z
UID:10000718-1780531200-1780617599@southernhillshastings.com
SUMMARY:Central Nebraska Seniors Tournament
DESCRIPTION:Host of The Central Nebraska Senior Tournament
URL:https://southernhillshastings.com/event/central-nebraska-seniors-tournament/
LOCATION:Southern Hills Golf Course\, 3005 South Southern Hills Dr.\, Hastings\, Nebraska\, 68901\, United States
END:VEVENT
BEGIN:VEVENT
DTSTART;TZID=America/Chicago:20260605T140000
DTEND;TZID=America/Chicago:20260605T180000
DTSTAMP:20260421T174710
CREATED:20260421T215918Z
LAST-MODIFIED:20260421T215919Z
UID:10000962-1780668000-1780682400@southernhillshastings.com
SUMMARY:Mizuno Fitting Day
DESCRIPTION:
URL:https://southernhillshastings.com/event/mizuno-fitting-day/
END:VEVENT
BEGIN:VEVENT
DTSTART;TZID=America/Chicago:20260606T080000
DTEND;TZID=America/Chicago:20260606T170000
DTSTAMP:20260421T174710
CREATED:20260421T220123Z
LAST-MODIFIED:20260421T220402Z
UID:10000963-1780732800-1780765200@southernhillshastings.com
SUMMARY:Kaapa Ethanol Event (9-Holes Closed)
DESCRIPTION:
URL:https://southernhillshastings.com/event/kaapa-ethanol-event-9-holes-closed/
END:VEVENT
BEGIN:VEVENT
DTSTART;TZID=America/Chicago:20260606T100000
DTEND;TZID=America/Chicago:20260606T170000
DTSTAMP:20260421T174710
CREATED:20260202T220158Z
LAST-MODIFIED:20260202T220200Z
UID:10000728-1780740000-1780765200@southernhillshastings.com
SUMMARY:Kaapa Ethanol Event - 9 holes
DESCRIPTION:
URL:https://southernhillshastings.com/event/kaapa-ethanol-event-9-holes/
LOCATION:Southern Hills Golf Course\, 3005 South Southern Hills Dr.\, Hastings\, Nebraska\, 68901\, United States
END:VEVENT
BEGIN:VEVENT
DTSTART;TZID=America/Chicago:20260608T180000
DTEND;TZID=America/Chicago:20260608T220000
DTSTAMP:20260421T174710
CREATED:20260421T211056Z
LAST-MODIFIED:20260421T211058Z
UID:10000914-1780941600-1780956000@southernhillshastings.com
SUMMARY:Men's League
DESCRIPTION:
URL:https://southernhillshastings.com/event/mens-league-2/2026-06-08/
END:VEVENT
BEGIN:VEVENT
DTSTART;TZID=America/Chicago:20260609T080000
DTEND;TZID=America/Chicago:20260609T130000
DTSTAMP:20260421T174710
CREATED:20260421T215429Z
LAST-MODIFIED:20260421T220323Z
UID:10000961-1780992000-1781010000@southernhillshastings.com
SUMMARY:Hosting Pine Lakes Jr. PGA
DESCRIPTION:
URL:https://southernhillshastings.com/event/hosting-pine-lakes-jr-pga/
END:VEVENT
BEGIN:VEVENT
DTSTART;TZID=America/Chicago:20260609T090000
DTEND;TZID=America/Chicago:20260609T110000
DTSTAMP:20260421T174710
CREATED:20260202T221506Z
LAST-MODIFIED:20260203T185119Z
UID:10000738-1780995600-1781002800@southernhillshastings.com
SUMMARY:PGA Jr. League : Southern Hills VS Pine Lake
DESCRIPTION:Our Southern Hills Jr Program takes on Pine Lake at Home.
URL:https://southernhillshastings.com/event/pga-jr-league-southern-hills-vs-pine-lake/
LOCATION:Southern Hills Golf Course\, 3005 South Southern Hills Dr.\, Hastings\, Nebraska\, 68901\, United States
END:VEVENT
BEGIN:VEVENT
DTSTART;TZID=America/Chicago:20260609T180000
DTEND;TZID=America/Chicago:20260609T220000
DTSTAMP:20260421T174710
CREATED:20260421T214725Z
LAST-MODIFIED:20260421T214726Z
UID:10000950-1781028000-1781042400@southernhillshastings.com
SUMMARY:Ladies League
DESCRIPTION:
URL:https://southernhillshastings.com/event/ladies-league-3/2026-06-09/
END:VEVENT
BEGIN:VEVENT
DTSTART;TZID=America/Chicago:20260610T120000
DTEND;TZID=America/Chicago:20260610T170000
DTSTAMP:20260421T174710
CREATED:20260415T185426Z
LAST-MODIFIED:20260415T185430Z
UID:10000765-1781092800-1781110800@southernhillshastings.com
SUMMARY:The Wednesday Open
DESCRIPTION:
URL:https://southernhillshastings.com/event/the-wednesday-open/2026-06-10/
END:VEVENT
END:VCALENDAR