BEGIN:VCALENDAR
VERSION:2.0
PRODID:-//Southern Hills Golf Club - Hastings, NE - ECPv6.15.20//NONSGML v1.0//EN
CALSCALE:GREGORIAN
METHOD:PUBLISH
X-WR-CALNAME:Southern Hills Golf Club - Hastings, NE
X-ORIGINAL-URL:https://southernhillshastings.com
X-WR-CALDESC:Events for Southern Hills Golf Club - Hastings, NE
REFRESH-INTERVAL;VALUE=DURATION:PT1H
X-Robots-Tag:noindex
X-PUBLISHED-TTL:PT1H
BEGIN:VTIMEZONE
TZID:America/Chicago
BEGIN:DAYLIGHT
TZOFFSETFROM:-0600
TZOFFSETTO:-0500
TZNAME:CDT
DTSTART:20260308T080000
END:DAYLIGHT
BEGIN:STANDARD
TZOFFSETFROM:-0500
TZOFFSETTO:-0600
TZNAME:CST
DTSTART:20261101T070000
END:STANDARD
BEGIN:DAYLIGHT
TZOFFSETFROM:-0600
TZOFFSETTO:-0500
TZNAME:CDT
DTSTART:20270314T080000
END:DAYLIGHT
BEGIN:STANDARD
TZOFFSETFROM:-0500
TZOFFSETTO:-0600
TZNAME:CST
DTSTART:20271107T070000
END:STANDARD
BEGIN:DAYLIGHT
TZOFFSETFROM:-0600
TZOFFSETTO:-0500
TZNAME:CDT
DTSTART:20280312T080000
END:DAYLIGHT
BEGIN:STANDARD
TZOFFSETFROM:-0500
TZOFFSETTO:-0600
TZNAME:CST
DTSTART:20281105T070000
END:STANDARD
BEGIN:DAYLIGHT
TZOFFSETFROM:-0600
TZOFFSETTO:-0500
TZNAME:CDT
DTSTART:20290311T080000
END:DAYLIGHT
BEGIN:STANDARD
TZOFFSETFROM:-0500
TZOFFSETTO:-0600
TZNAME:CST
DTSTART:20291104T070000
END:STANDARD
END:VTIMEZONE
BEGIN:VEVENT
DTSTART;TZID=America/Chicago:20270707T120000
DTEND;TZID=America/Chicago:20270707T170000
DTSTAMP:20260421T070322
CREATED:20260415T185426Z
LAST-MODIFIED:20260415T185430Z
UID:10000793-1814961600-1814979600@southernhillshastings.com
SUMMARY:The Wednesday Open
DESCRIPTION:
URL:https://southernhillshastings.com/event/the-wednesday-open/2027-07-07/
END:VEVENT
BEGIN:VEVENT
DTSTART;TZID=America/Chicago:20270721T120000
DTEND;TZID=America/Chicago:20270721T170000
DTSTAMP:20260421T070322
CREATED:20260415T185426Z
LAST-MODIFIED:20260415T185430Z
UID:10000794-1816171200-1816189200@southernhillshastings.com
SUMMARY:The Wednesday Open
DESCRIPTION:
URL:https://southernhillshastings.com/event/the-wednesday-open/2027-07-21/
END:VEVENT
BEGIN:VEVENT
DTSTART;TZID=America/Chicago:20270804T120000
DTEND;TZID=America/Chicago:20270804T170000
DTSTAMP:20260421T070322
CREATED:20260415T185426Z
LAST-MODIFIED:20260415T185430Z
UID:10000795-1817380800-1817398800@southernhillshastings.com
SUMMARY:The Wednesday Open
DESCRIPTION:
URL:https://southernhillshastings.com/event/the-wednesday-open/2027-08-04/
END:VEVENT
BEGIN:VEVENT
DTSTART;TZID=America/Chicago:20270818T120000
DTEND;TZID=America/Chicago:20270818T170000
DTSTAMP:20260421T070322
CREATED:20260415T185426Z
LAST-MODIFIED:20260415T185430Z
UID:10000796-1818590400-1818608400@southernhillshastings.com
SUMMARY:The Wednesday Open
DESCRIPTION:
URL:https://southernhillshastings.com/event/the-wednesday-open/2027-08-18/
END:VEVENT
BEGIN:VEVENT
DTSTART;TZID=America/Chicago:20270901T120000
DTEND;TZID=America/Chicago:20270901T170000
DTSTAMP:20260421T070322
CREATED:20260415T185426Z
LAST-MODIFIED:20260415T185430Z
UID:10000797-1819800000-1819818000@southernhillshastings.com
SUMMARY:The Wednesday Open
DESCRIPTION:
URL:https://southernhillshastings.com/event/the-wednesday-open/2027-09-01/
END:VEVENT
BEGIN:VEVENT
DTSTART;TZID=America/Chicago:20270915T120000
DTEND;TZID=America/Chicago:20270915T170000
DTSTAMP:20260421T070322
CREATED:20260415T185426Z
LAST-MODIFIED:20260415T185430Z
UID:10000798-1821009600-1821027600@southernhillshastings.com
SUMMARY:The Wednesday Open
DESCRIPTION:
URL:https://southernhillshastings.com/event/the-wednesday-open/2027-09-15/
END:VEVENT
BEGIN:VEVENT
DTSTART;TZID=America/Chicago:20270929T120000
DTEND;TZID=America/Chicago:20270929T170000
DTSTAMP:20260421T070322
CREATED:20260415T185426Z
LAST-MODIFIED:20260415T185430Z
UID:10000799-1822219200-1822237200@southernhillshastings.com
SUMMARY:The Wednesday Open
DESCRIPTION:
URL:https://southernhillshastings.com/event/the-wednesday-open/2027-09-29/
END:VEVENT
BEGIN:VEVENT
DTSTART;TZID=America/Chicago:20271013T120000
DTEND;TZID=America/Chicago:20271013T170000
DTSTAMP:20260421T070322
CREATED:20260415T185426Z
LAST-MODIFIED:20260415T185430Z
UID:10000800-1823428800-1823446800@southernhillshastings.com
SUMMARY:The Wednesday Open
DESCRIPTION:
URL:https://southernhillshastings.com/event/the-wednesday-open/2027-10-13/
END:VEVENT
BEGIN:VEVENT
DTSTART;TZID=America/Chicago:20271027T120000
DTEND;TZID=America/Chicago:20271027T170000
DTSTAMP:20260421T070322
CREATED:20260415T185426Z
LAST-MODIFIED:20260415T185430Z
UID:10000801-1824638400-1824656400@southernhillshastings.com
SUMMARY:The Wednesday Open
DESCRIPTION:
URL:https://southernhillshastings.com/event/the-wednesday-open/2027-10-27/
END:VEVENT
BEGIN:VEVENT
DTSTART;TZID=America/Chicago:20271110T120000
DTEND;TZID=America/Chicago:20271110T170000
DTSTAMP:20260421T070322
CREATED:20260415T185426Z
LAST-MODIFIED:20260415T185430Z
UID:10000802-1825848000-1825866000@southernhillshastings.com
SUMMARY:The Wednesday Open
DESCRIPTION:
URL:https://southernhillshastings.com/event/the-wednesday-open/2027-11-10/
END:VEVENT
BEGIN:VEVENT
DTSTART;TZID=America/Chicago:20271124T120000
DTEND;TZID=America/Chicago:20271124T170000
DTSTAMP:20260421T070322
CREATED:20260415T185426Z
LAST-MODIFIED:20260415T185430Z
UID:10000803-1827057600-1827075600@southernhillshastings.com
SUMMARY:The Wednesday Open
DESCRIPTION:
URL:https://southernhillshastings.com/event/the-wednesday-open/2027-11-24/
END:VEVENT
BEGIN:VEVENT
DTSTART;TZID=America/Chicago:20271208T120000
DTEND;TZID=America/Chicago:20271208T170000
DTSTAMP:20260421T070322
CREATED:20260415T185426Z
LAST-MODIFIED:20260415T185430Z
UID:10000804-1828267200-1828285200@southernhillshastings.com
SUMMARY:The Wednesday Open
DESCRIPTION:
URL:https://southernhillshastings.com/event/the-wednesday-open/2027-12-08/
END:VEVENT
BEGIN:VEVENT
DTSTART;TZID=America/Chicago:20271222T120000
DTEND;TZID=America/Chicago:20271222T170000
DTSTAMP:20260421T070322
CREATED:20260415T185426Z
LAST-MODIFIED:20260415T185430Z
UID:10000805-1829476800-1829494800@southernhillshastings.com
SUMMARY:The Wednesday Open
DESCRIPTION:
URL:https://southernhillshastings.com/event/the-wednesday-open/2027-12-22/
END:VEVENT
BEGIN:VEVENT
DTSTART;TZID=America/Chicago:20280105T120000
DTEND;TZID=America/Chicago:20280105T170000
DTSTAMP:20260421T070322
CREATED:20260415T185426Z
LAST-MODIFIED:20260415T185430Z
UID:10000806-1830686400-1830704400@southernhillshastings.com
SUMMARY:The Wednesday Open
DESCRIPTION:
URL:https://southernhillshastings.com/event/the-wednesday-open/2028-01-05/
END:VEVENT
BEGIN:VEVENT
DTSTART;TZID=America/Chicago:20280119T120000
DTEND;TZID=America/Chicago:20280119T170000
DTSTAMP:20260421T070322
CREATED:20260415T185426Z
LAST-MODIFIED:20260415T185430Z
UID:10000807-1831896000-1831914000@southernhillshastings.com
SUMMARY:The Wednesday Open
DESCRIPTION:
URL:https://southernhillshastings.com/event/the-wednesday-open/2028-01-19/
END:VEVENT
BEGIN:VEVENT
DTSTART;TZID=America/Chicago:20280202T120000
DTEND;TZID=America/Chicago:20280202T170000
DTSTAMP:20260421T070322
CREATED:20260415T185426Z
LAST-MODIFIED:20260415T185430Z
UID:10000808-1833105600-1833123600@southernhillshastings.com
SUMMARY:The Wednesday Open
DESCRIPTION:
URL:https://southernhillshastings.com/event/the-wednesday-open/2028-02-02/
END:VEVENT
BEGIN:VEVENT
DTSTART;TZID=America/Chicago:20280216T120000
DTEND;TZID=America/Chicago:20280216T170000
DTSTAMP:20260421T070322
CREATED:20260415T185426Z
LAST-MODIFIED:20260415T185430Z
UID:10000809-1834315200-1834333200@southernhillshastings.com
SUMMARY:The Wednesday Open
DESCRIPTION:
URL:https://southernhillshastings.com/event/the-wednesday-open/2028-02-16/
END:VEVENT
BEGIN:VEVENT
DTSTART;TZID=America/Chicago:20280301T120000
DTEND;TZID=America/Chicago:20280301T170000
DTSTAMP:20260421T070322
CREATED:20260415T185426Z
LAST-MODIFIED:20260415T185430Z
UID:10000810-1835524800-1835542800@southernhillshastings.com
SUMMARY:The Wednesday Open
DESCRIPTION:
URL:https://southernhillshastings.com/event/the-wednesday-open/2028-03-01/
END:VEVENT
BEGIN:VEVENT
DTSTART;TZID=America/Chicago:20280315T120000
DTEND;TZID=America/Chicago:20280315T170000
DTSTAMP:20260421T070322
CREATED:20260415T185426Z
LAST-MODIFIED:20260415T185430Z
UID:10000811-1836734400-1836752400@southernhillshastings.com
SUMMARY:The Wednesday Open
DESCRIPTION:
URL:https://southernhillshastings.com/event/the-wednesday-open/2028-03-15/
END:VEVENT
BEGIN:VEVENT
DTSTART;TZID=America/Chicago:20280329T120000
DTEND;TZID=America/Chicago:20280329T170000
DTSTAMP:20260421T070322
CREATED:20260415T185426Z
LAST-MODIFIED:20260415T185430Z
UID:10000812-1837944000-1837962000@southernhillshastings.com
SUMMARY:The Wednesday Open
DESCRIPTION:
URL:https://southernhillshastings.com/event/the-wednesday-open/2028-03-29/
END:VEVENT
BEGIN:VEVENT
DTSTART;TZID=America/Chicago:20280412T120000
DTEND;TZID=America/Chicago:20280412T170000
DTSTAMP:20260421T070322
CREATED:20260415T185426Z
LAST-MODIFIED:20260415T185430Z
UID:10000813-1839153600-1839171600@southernhillshastings.com
SUMMARY:The Wednesday Open
DESCRIPTION:
URL:https://southernhillshastings.com/event/the-wednesday-open/2028-04-12/
END:VEVENT
BEGIN:VEVENT
DTSTART;TZID=America/Chicago:20280426T120000
DTEND;TZID=America/Chicago:20280426T170000
DTSTAMP:20260421T070322
CREATED:20260415T185426Z
LAST-MODIFIED:20260415T185430Z
UID:10000814-1840363200-1840381200@southernhillshastings.com
SUMMARY:The Wednesday Open
DESCRIPTION:
URL:https://southernhillshastings.com/event/the-wednesday-open/2028-04-26/
END:VEVENT
BEGIN:VEVENT
DTSTART;TZID=America/Chicago:20280510T120000
DTEND;TZID=America/Chicago:20280510T170000
DTSTAMP:20260421T070322
CREATED:20260415T185426Z
LAST-MODIFIED:20260415T185430Z
UID:10000815-1841572800-1841590800@southernhillshastings.com
SUMMARY:The Wednesday Open
DESCRIPTION:
URL:https://southernhillshastings.com/event/the-wednesday-open/2028-05-10/
END:VEVENT
BEGIN:VEVENT
DTSTART;TZID=America/Chicago:20280524T120000
DTEND;TZID=America/Chicago:20280524T170000
DTSTAMP:20260421T070322
CREATED:20260415T185426Z
LAST-MODIFIED:20260415T185430Z
UID:10000816-1842782400-1842800400@southernhillshastings.com
SUMMARY:The Wednesday Open
DESCRIPTION:
URL:https://southernhillshastings.com/event/the-wednesday-open/2028-05-24/
END:VEVENT
BEGIN:VEVENT
DTSTART;TZID=America/Chicago:20280607T120000
DTEND;TZID=America/Chicago:20280607T170000
DTSTAMP:20260421T070322
CREATED:20260415T185426Z
LAST-MODIFIED:20260415T185430Z
UID:10000817-1843992000-1844010000@southernhillshastings.com
SUMMARY:The Wednesday Open
DESCRIPTION:
URL:https://southernhillshastings.com/event/the-wednesday-open/2028-06-07/
END:VEVENT
BEGIN:VEVENT
DTSTART;TZID=America/Chicago:20280621T120000
DTEND;TZID=America/Chicago:20280621T170000
DTSTAMP:20260421T070322
CREATED:20260415T185426Z
LAST-MODIFIED:20260415T185430Z
UID:10000818-1845201600-1845219600@southernhillshastings.com
SUMMARY:The Wednesday Open
DESCRIPTION:
URL:https://southernhillshastings.com/event/the-wednesday-open/2028-06-21/
END:VEVENT
BEGIN:VEVENT
DTSTART;TZID=America/Chicago:20280705T120000
DTEND;TZID=America/Chicago:20280705T170000
DTSTAMP:20260421T070322
CREATED:20260415T185426Z
LAST-MODIFIED:20260415T185430Z
UID:10000819-1846411200-1846429200@southernhillshastings.com
SUMMARY:The Wednesday Open
DESCRIPTION:
URL:https://southernhillshastings.com/event/the-wednesday-open/2028-07-05/
END:VEVENT
BEGIN:VEVENT
DTSTART;TZID=America/Chicago:20280719T120000
DTEND;TZID=America/Chicago:20280719T170000
DTSTAMP:20260421T070322
CREATED:20260415T185426Z
LAST-MODIFIED:20260415T185430Z
UID:10000820-1847620800-1847638800@southernhillshastings.com
SUMMARY:The Wednesday Open
DESCRIPTION:
URL:https://southernhillshastings.com/event/the-wednesday-open/2028-07-19/
END:VEVENT
BEGIN:VEVENT
DTSTART;TZID=America/Chicago:20280802T120000
DTEND;TZID=America/Chicago:20280802T170000
DTSTAMP:20260421T070322
CREATED:20260415T185426Z
LAST-MODIFIED:20260415T185430Z
UID:10000821-1848830400-1848848400@southernhillshastings.com
SUMMARY:The Wednesday Open
DESCRIPTION:
URL:https://southernhillshastings.com/event/the-wednesday-open/2028-08-02/
END:VEVENT
BEGIN:VEVENT
DTSTART;TZID=America/Chicago:20280816T120000
DTEND;TZID=America/Chicago:20280816T170000
DTSTAMP:20260421T070322
CREATED:20260415T185426Z
LAST-MODIFIED:20260415T185430Z
UID:10000822-1850040000-1850058000@southernhillshastings.com
SUMMARY:The Wednesday Open
DESCRIPTION:
URL:https://southernhillshastings.com/event/the-wednesday-open/2028-08-16/
END:VEVENT
END:VCALENDAR